BEGIN:VCALENDAR
VERSION:2.0
PRODID:-//SwingAround//EN
BEGIN:VEVENT
DTSTART;VALUE=DATE:20261023
DTEND;VALUE=DATE:20261026
SUMMARY:20th Munich Balboa & Shag Weekend 2026
DESCRIPTION:One of the longest running Balboa &amp; Shag events, featuring international instructors in a warm and friendly atmosphere, offering opportunities to develop skills and connect with fellow dancers.
LOCATION:Munich, Germany
URL:https://swingaround.app/events/20th-munich-balboa-shag-weekend-2026
UID:event-255@swingaround.com
END:VEVENT
END:VCALENDAR
