BEGIN:VCALENDAR
VERSION:2.0
PRODID:-//SwingAround//EN
BEGIN:VEVENT
DTSTART;VALUE=DATE:20270204
DTEND;VALUE=DATE:20270209
SUMMARY:20th Rock That Swing Festival
DESCRIPTION:For the 20th time the festival celebrates the diversity of the dances and music of the Swing and Rock'n'Roll era from the 20s to the 60s. Over a span of 5 days, fantastic dance nights, hot live mus...
LOCATION:Munich, Germany
URL:https://swingaround.app/events/20th-rock-that-swing-festival-2027
UID:event-266@swingaround.com
END:VEVENT
END:VCALENDAR
