BEGIN:VCALENDAR
VERSION:2.0
PRODID:-//SwingAround//EN
BEGIN:VEVENT
DTSTART;VALUE=DATE:20260320
DTEND;VALUE=DATE:20260323
SUMMARY:30 Years of Edinburgh Swing Dance Society
DESCRIPTION:We have a full weekend planned and we'd love to see members and dancers from throughout the 30 years of the society come back and join our celebration. We'll have: 3 social dances with live music. ...
LOCATION:Edinburgh, United Kingdom
URL:https://swingaround.app/events/30-years-of-edinburgh-swing-dance-society-2026
UID:event-118@swingaround.com
END:VEVENT
END:VCALENDAR
