BEGIN:VCALENDAR
VERSION:2.0
PRODID:-//SwingAround//EN
BEGIN:VEVENT
DTSTART;VALUE=DATE:20260320
DTEND;VALUE=DATE:20260323
SUMMARY:Aberdeen’s Hop Potato
DESCRIPTION:A weekend of playful, skill-building Lindy Hop in Northeast Scotland Join us in small coastal Aberdeen for a weekend that mixes solid technique with a fun, light-hearted approach to dancing. With I...
LOCATION:Aberdeen, United Kingdom
URL:https://swingaround.app/events/aberdeen-s-hop-potato-2026
UID:event-104@swingaround.com
END:VEVENT
END:VCALENDAR
