BEGIN:VCALENDAR
VERSION:2.0
PRODID:-//SwingAround//EN
BEGIN:VEVENT
DTSTART;VALUE=DATE:20260409
DTEND;VALUE=DATE:20260413
SUMMARY:Alpine Jitterbugs - Shag n Bal 2026
DESCRIPTION:6th edition of the Balboa and Shag festival in Innsbruck. The Balboa Track can be booked on 3 different levels (Curious, Confident &amp; Invitational), with each having 5 hours of classes. Features...
LOCATION:Alpine Jitterbugs Festival Venue, Pradler Strasse 28, 6020 Innsbruck, Austria
URL:https://swingaround.app/events/alpine-jitterbugs-shag-n-bal-2026-2026
UID:event-135@swingaround.com
END:VEVENT
END:VCALENDAR
