BEGIN:VCALENDAR
VERSION:2.0
PRODID:-//SwingAround//EN
BEGIN:VEVENT
DTSTART;VALUE=DATE:20260401
DTEND;VALUE=DATE:20260407
SUMMARY:Asia Balboa eXchange 2026
DESCRIPTION:Multi-day Balboa dance exchange featuring live music performances and classes. The event includes a warm-up social on Wednesday and daily programming including instruction and four sets of live mus...
LOCATION:Seoul, South Korea
URL:https://swingaround.app/events/asia-balboa-exchange-d-f-2026
UID:event-130@swingaround.com
END:VEVENT
END:VCALENDAR
