BEGIN:VCALENDAR
VERSION:2.0
PRODID:-//SwingAround//EN
BEGIN:VEVENT
DTSTART;VALUE=DATE:20260925
DTEND;VALUE=DATE:20260928
SUMMARY:Augsburg Balboa & Shag Festival 2026
DESCRIPTION:Three days of great workshops and two parties with live music and a farewell dance on Sunday. A Balboa and Shag festival in the heart of Augsburg, Germany.
LOCATION:Augsburg, Germany
URL:https://swingaround.app/events/augsburg-balboa-shag-festival-2026
UID:event-247@swingaround.com
END:VEVENT
END:VCALENDAR
