BEGIN:VCALENDAR
VERSION:2.0
PRODID:-//SwingAround//EN
BEGIN:VEVENT
DTSTART;VALUE=DATE:20260529
DTEND;VALUE=DATE:20260601
SUMMARY:Back Home Again in Indiana 2026
DESCRIPTION:Community and building connections with other dancers. The gathering features dancing, live musical performances, instructional classes, community activities, and panel discussions.
LOCATION:Indiana Landmarks Campus, 1201 Central Ave, Indianapolis, IN 46202
URL:https://swingaround.app/events/back-home-again-in-indiana-2026
UID:event-189@swingaround.com
END:VEVENT
END:VCALENDAR
