BEGIN:VCALENDAR
VERSION:2.0
PRODID:-//SwingAround//EN
BEGIN:VEVENT
DTSTART;VALUE=DATE:20260417
DTEND;VALUE=DATE:20260420
SUMMARY:Back to Jitterbug
DESCRIPTION:Back to jitterbug is a cross over between Lindy hop and West coast swing  join us for an amazing weekend
LOCATION:Lyon, France
URL:https://swingaround.app/events/back-to-jitterbug-2026
UID:event-152@swingaround.com
END:VEVENT
END:VCALENDAR
