BEGIN:VCALENDAR
VERSION:2.0
PRODID:-//SwingAround//EN
BEGIN:VEVENT
DTSTART;VALUE=DATE:20260327
DTEND;VALUE=DATE:20260330
SUMMARY:Backdoor to Blues
DESCRIPTION:The amazing workshop of Backdoor to Blues is Back with 100% fun. Two live parties with the band orchestra "the rythm sketches" of Strasbourg, five levels in Blues (two levels will be tested) , four...
LOCATION:Paris, France
URL:https://swingaround.app/events/backdoor-to-blues-2026
UID:event-124@swingaround.com
END:VEVENT
END:VCALENDAR
