BEGIN:VCALENDAR
VERSION:2.0
PRODID:-//SwingAround//EN
BEGIN:VEVENT
DTSTART;VALUE=DATE:20260320
DTEND;VALUE=DATE:20260323
SUMMARY:Bad Wild Bad Hop
DESCRIPTION:Be part of the 10 years revival of Bad Wild Bad Hop! We bring back Swing to the art nuveau ballrooms in a village at river Enz in the Blackforest, mainly famous for its culture of Spa. Bands confir...
LOCATION:Bad Wildbad, Germany
URL:https://swingaround.app/events/bad-wild-bad-hop-2026
UID:event-108@swingaround.com
END:VEVENT
END:VCALENDAR
