BEGIN:VCALENDAR
VERSION:2.0
PRODID:-//SwingAround//EN
BEGIN:VEVENT
DTSTART;VALUE=DATE:20260327
DTEND;VALUE=DATE:20260330
SUMMARY:Bal Spring Break
DESCRIPTION:Everything under one roof! 8 hours of classes with top international teachers. Two Balboa streams and three social dances, with live music from The Jim Wynn Swingtet, all in a sea front hotel in Bo...
LOCATION:Bournemouth, United Kingdom
URL:https://swingaround.app/events/bal-spring-break-2026
UID:event-122@swingaround.com
END:VEVENT
END:VCALENDAR
