BEGIN:VCALENDAR
VERSION:2.0
PRODID:-//SwingAround//EN
BEGIN:VEVENT
DTSTART;VALUE=DATE:20260416
DTEND;VALUE=DATE:20260420
SUMMARY:Bal Wave 2026
DESCRIPTION:Four unforgettable nights of social dancing on wooden floors, with top-class live bands and handpicked DJs. Daytime classes from six instructors covering various skill levels, plus cultural experie...
LOCATION:Catania, Italy
URL:https://swingaround.app/events/bal-wave-balboa-slow-bal-festival-2026
UID:event-144@swingaround.com
END:VEVENT
END:VCALENDAR
