BEGIN:VCALENDAR
VERSION:2.0
PRODID:-//SwingAround//EN
BEGIN:VEVENT
DTSTART;VALUE=DATE:20260626
DTEND;VALUE=DATE:20260629
SUMMARY:Balboa Delight 2026
DESCRIPTION:Balboa Delight is all about Balboa — immerse yourself in the world of dynamic swing dancing for a whole weekend, from beginner to advanced. Workshop with 10 international teachers, parties with the...
LOCATION:Basel, Switzerland
URL:https://swingaround.app/events/balboa-delight-2026
UID:event-213@swingaround.com
END:VEVENT
END:VCALENDAR
