BEGIN:VCALENDAR
VERSION:2.0
PRODID:-//SwingAround//EN
BEGIN:VEVENT
DTSTART;VALUE=DATE:20260606
DTEND;VALUE=DATE:20260608
SUMMARY:Balboa Edition Grenoble Special 2026
DESCRIPTION:Balboa weekend with three levels offered (Beginners, Intermediate, Advanced) with 6 hours per level, and a party with band.
LOCATION:Grenoble, France
URL:https://swingaround.app/events/balboa-edition-grenoble-special-2026
UID:event-198@swingaround.com
END:VEVENT
END:VCALENDAR
