BEGIN:VCALENDAR
VERSION:2.0
PRODID:-//SwingAround//EN
BEGIN:VEVENT
DTSTART;VALUE=DATE:20260508
DTEND;VALUE=DATE:20260511
SUMMARY:Balboa in Bergen 2026
DESCRIPTION:A weekend gathering featuring international instructors offering classes and social dancing in Bergen during springtime.
LOCATION:Bergen, Norway
URL:https://swingaround.app/events/balboa-in-bergen-with-anni-gasper-2026
UID:event-174@swingaround.com
END:VEVENT
END:VCALENDAR
