BEGIN:VCALENDAR
VERSION:2.0
PRODID:-//SwingAround//EN
BEGIN:VEVENT
DTSTART;VALUE=DATE:20260904
DTEND;VALUE=DATE:20260908
SUMMARY:Balboa On The River
DESCRIPTION:Balboa On The River is more than a dance event, it's a full 4 days long weekend getaway where music, dance, activities, and friendship meet the magic of the St. Lawrence River. You'll wake up to th...
LOCATION:Gananoque Ontario, Canada
URL:https://swingaround.app/events/balboa-on-the-river-2026
UID:event-236@swingaround.com
END:VEVENT
END:VCALENDAR
