BEGIN:VCALENDAR
VERSION:2.0
PRODID:-//SwingAround//EN
BEGIN:VEVENT
DTSTART;VALUE=DATE:20261106
DTEND;VALUE=DATE:20261109
SUMMARY:Barcelona Balboa Festival 2026
DESCRIPTION:An international Balboa dance festival organized by BCNswing and Gloria Garcia, with a strong social spirit. The festival features Balboa classes with international instructors, live music, and pur...
LOCATION:Barcelona, Spain
URL:https://swingaround.app/events/barcelona-balboa-festival-bbf-2026
UID:event-259@swingaround.com
END:VEVENT
END:VCALENDAR
