BEGIN:VCALENDAR
VERSION:2.0
PRODID:-//SwingAround//EN
BEGIN:VEVENT
DTSTART;VALUE=DATE:20260917
DTEND;VALUE=DATE:20260921
SUMMARY:Barcelona Lindy Exchange - BLE 2026
DESCRIPTION:The 12th edition of the ultimate social dancing experience. Four days of celebrations featuring more than 24 hours of live music in stunning modernist venues, 2 nights at the Casino l'Aliança del P...
LOCATION:Barcelona, Spain
URL:https://swingaround.app/events/barcelona-lindy-exchange-ble-2026
UID:event-242@swingaround.com
END:VEVENT
END:VCALENDAR
