BEGIN:VCALENDAR
VERSION:2.0
PRODID:-//SwingAround//EN
BEGIN:VEVENT
DTSTART;VALUE=DATE:20260401
DTEND;VALUE=DATE:20260407
SUMMARY:Barswingona
DESCRIPTION:Barswingona is a six-day celebration of music, dance, and good vibes in the heart of Barcelona. Expect top-quality live music and DJs, great dance spaces, and a community of passionate, skilled dan...
LOCATION:Barcelona, Spain
URL:https://swingaround.app/events/barswingona-2026
UID:event-129@swingaround.com
END:VEVENT
END:VCALENDAR
