BEGIN:VCALENDAR
VERSION:2.0
PRODID:-//SwingAround//EN
BEGIN:VEVENT
DTSTART;VALUE=DATE:20260314
DTEND;VALUE=DATE:20260316
SUMMARY:Battle AJT
DESCRIPTION:A week-end of battles (solo dance), parties, workshops and cultural exchanges creating bridges between swing and hip-hop / club communities.
LOCATION:Paris, France
URL:https://swingaround.app/events/battle-ajt-2026
UID:event-101@swingaround.com
END:VEVENT
END:VCALENDAR
