BEGIN:VCALENDAR
VERSION:2.0
PRODID:-//SwingAround//EN
BEGIN:VEVENT
DTSTART;VALUE=DATE:20260522
DTEND;VALUE=DATE:20260526
SUMMARY:BB-DanceCamp 2026
DESCRIPTION:One of the oldest swing dance camps in Europe, held at Whitsun in Landsberg am Lech for over 35 years. Intensive 3-day instruction from intermediate level upward. Features live music performances, ...
LOCATION:Landsberg am Lech, Germany
URL:https://swingaround.app/events/bb-dancecamp-2026
UID:event-182@swingaround.com
END:VEVENT
END:VCALENDAR
