BEGIN:VCALENDAR
VERSION:2.0
PRODID:-//SwingAround//EN
BEGIN:VEVENT
DTSTART;VALUE=DATE:20261008
DTEND;VALUE=DATE:20261012
SUMMARY:Bcn Shag Festival - 12th Edition 2026
DESCRIPTION:The first European swing festival dedicated to Collegiate Shag, celebrating its 12th edition. Featuring performances, competitions, workshops, and entertainment centered on Collegiate Shag dancing.
LOCATION:Barcelona, Spain
URL:https://swingaround.app/events/bcn-shag-festival-12th-edition-2026
UID:event-248@swingaround.com
END:VEVENT
END:VCALENDAR
