BEGIN:VCALENDAR
VERSION:2.0
PRODID:-//SwingAround//EN
BEGIN:VEVENT
DTSTART;VALUE=DATE:20260910
DTEND;VALUE=DATE:20260914
SUMMARY:Be Bluesed Festival 2026
DESCRIPTION:Blues dance festival emphasizing the connection that blues dancing offers. Welcomes dancers of all levels. Programming includes 4 parties with live music and 8 hours of workshops led by internation...
LOCATION:Bern, Switzerland
URL:https://swingaround.app/events/be-bluesed-festival-2026
UID:event-238@swingaround.com
END:VEVENT
END:VCALENDAR
