BEGIN:VCALENDAR
VERSION:2.0
PRODID:-//SwingAround//EN
BEGIN:VEVENT
DTSTART;VALUE=DATE:20260918
DTEND;VALUE=DATE:20260921
SUMMARY:Belta Blues and Fusion 2026
DESCRIPTION:Newcastle's blues and fusion weekend. A weekend of blues and fusion dancing featuring an afternoon workshop for all levels, three nights of parties, with live music as well as a host of great DJs a...
LOCATION:Newcastle upon Tyne, United Kingdom
URL:https://swingaround.app/events/belta-blues-and-fusion-2026
UID:event-244@swingaround.com
END:VEVENT
END:VCALENDAR
