BEGIN:VCALENDAR
VERSION:2.0
PRODID:-//SwingAround//EN
BEGIN:VEVENT
DTSTART;VALUE=DATE:20260619
DTEND;VALUE=DATE:20260622
SUMMARY:Blues at the ‘Bridge
DESCRIPTION:We're back for another year! Come join us for a summer weekend of blues dancing in the wonderful city of Cambridge, complete with three live music nights and a roast dinner. This year we are excite...
LOCATION:Cambridge, United Kingdom
URL:https://swingaround.app/events/blues-at-the-bridge-2026
UID:event-209@swingaround.com
END:VEVENT
END:VCALENDAR
