BEGIN:VCALENDAR
VERSION:2.0
PRODID:-//SwingAround//EN
BEGIN:VEVENT
DTSTART;VALUE=DATE:20260725
DTEND;VALUE=DATE:20260803
SUMMARY:Blues Dose Retreat 2026
DESCRIPTION:The fourth edition of this retreat offers participants the option to attend the full week or just one half. The program features 15 hours of blues dance classes (7.5 hours if you join for only half...
LOCATION:Brno, Czech Republic
URL:https://swingaround.app/events/blues-dose-retreat-2026
UID:event-224@swingaround.com
END:VEVENT
END:VCALENDAR
