BEGIN:VCALENDAR
VERSION:2.0
PRODID:-//SwingAround//EN
BEGIN:VEVENT
DTSTART;VALUE=DATE:20260326
DTEND;VALUE=DATE:20260330
SUMMARY:Bosphorus Swing Festival
DESCRIPTION:You're warmly invited to Bosphorus Swing Festival 2026 - where music and dance bring us together in the heart of Istanbul! Bosphorus Swing Festival brings together dancers from around the world for...
LOCATION:Istanbul, Turkey
URL:https://swingaround.app/events/bosphorus-swing-festival-2026
UID:event-120@swingaround.com
END:VEVENT
END:VCALENDAR
