BEGIN:VCALENDAR
VERSION:2.0
PRODID:-//SwingAround//EN
BEGIN:VEVENT
DTSTART;VALUE=DATE:20261030
DTEND;VALUE=DATE:20261102
SUMMARY:Boulevard Blues 2026
DESCRIPTION:A cozy blues weekend in Hasselt, Belgium with great teachers, parties and bands, all in one location. 6 hours of classes, taster classes, a blues talk and 3 parties with live band and DJs in one of...
LOCATION:Hasselt, Belgium
URL:https://swingaround.app/events/boulevard-blues-2026
UID:event-258@swingaround.com
END:VEVENT
END:VCALENDAR
