BEGIN:VCALENDAR
VERSION:2.0
PRODID:-//SwingAround//EN
BEGIN:VEVENT
DTSTART;VALUE=DATE:20261127
DTEND;VALUE=DATE:20261130
SUMMARY:Breezy Swing Weekend 2026
DESCRIPTION:Dance Exchange by the beach in Hua Hin, Thailand. Dancers from around the world come together for amazing Swing Dance Beach parties with live band.
LOCATION:Hua Hin, Thailand
URL:https://swingaround.app/events/breezy-swing-weekend-2026
UID:event-263@swingaround.com
END:VEVENT
END:VCALENDAR
