BEGIN:VCALENDAR
VERSION:2.0
PRODID:-//SwingAround//EN
BEGIN:VEVENT
DTSTART;VALUE=DATE:20260522
DTEND;VALUE=DATE:20260525
SUMMARY:Brisbane Swing Thing 2026
DESCRIPTION:3 nights of dancing to live bands, 1 afterparty, and daytime activities such as a scavenger hunt and picnic.
LOCATION:Brisbane, Australia
URL:https://swingaround.app/events/brisbane-swing-thing-2026
UID:event-186@swingaround.com
END:VEVENT
END:VCALENDAR
