BEGIN:VCALENDAR
VERSION:2.0
PRODID:-//SwingAround//EN
BEGIN:VEVENT
DTSTART;VALUE=DATE:20260717
DTEND;VALUE=DATE:20260720
SUMMARY:BTX
DESCRIPTION:SAVE THE DATE! 07July/17-18-19th (Fri-Sat-Sun) \nBalboa Orchestra (10 pieces) 3 nights of social parties with Asian Golden Swing Quartet Balboa Orchestra for Bal dancers! Special arrangement of grea...
LOCATION:Tokyo, Japan
URL:https://swingaround.app/events/btx-2026
UID:event-220@swingaround.com
END:VEVENT
END:VCALENDAR
