BEGIN:VCALENDAR
VERSION:2.0
PRODID:-//SwingAround//EN
BEGIN:VEVENT
DTSTART;VALUE=DATE:20261016
DTEND;VALUE=DATE:20261019
SUMMARY:Byron Bay Lindy Exchange 2026
DESCRIPTION:Another unforgettable weekend of swing dancing, live music, and community in Byron Bay. Three days and nights of Lindy Hop, live bands, guest DJs, social dancing, beach picnics, yoga, lighthouse wa...
LOCATION:Byron Bay, Australia
URL:https://swingaround.app/events/byron-bay-lindy-exchange-2026
UID:event-253@swingaround.com
END:VEVENT
END:VCALENDAR
