BEGIN:VCALENDAR
VERSION:2.0
PRODID:-//SwingAround//EN
BEGIN:VEVENT
DTSTART;VALUE=DATE:20260925
DTEND;VALUE=DATE:20260928
SUMMARY:Calpe Swing Fiesta
DESCRIPTION:Calpe Swing Fiesta is known for it's fun, inclusive atmosphere with the passion of Lindy Hop bringing everyone together. The main weekend has a full schedule of Lindy Hop classes during the day wit...
LOCATION:Calpe, Spain
URL:https://swingaround.app/events/calpe-swing-fiesta-2026
UID:event-245@swingaround.com
END:VEVENT
END:VCALENDAR
