BEGIN:VCALENDAR
VERSION:2.0
PRODID:-//SwingAround//EN
BEGIN:VEVENT
DTSTART;VALUE=DATE:20260501
DTEND;VALUE=DATE:20260504
SUMMARY:Come Around Balboa Weekend 2026
DESCRIPTION:The next edition of our fabulous event with a super balboa celebration. Fun and love in a familiar atmosphere with some special happenings you may never have experienced before. Classes in 3 levels...
LOCATION:Szekesfehervar, Hungary
URL:https://swingaround.app/events/come-around-balboa-weekend-2026
UID:event-167@swingaround.com
END:VEVENT
END:VCALENDAR
