BEGIN:VCALENDAR
VERSION:2.0
PRODID:-//SwingAround//EN
BEGIN:VEVENT
DTSTART;VALUE=DATE:20261120
DTEND;VALUE=DATE:20261123
SUMMARY:Autumn Leaves the Pott 2026
DESCRIPTION:12 hours of classes, two parties (Friday and Saturday). Features 2 levels each of Lindy Hop and Balboa plus taster classes, 2 parties and live music.
LOCATION:LindyPott-Studio 1, Güntherstraße 42e, 1. OG, 44143 Dortmund, Germany
URL:https://swingaround.app/events/come-around-the-pott-2026
UID:event-143@swingaround.com
END:VEVENT
END:VCALENDAR
