BEGIN:VCALENDAR
VERSION:2.0
PRODID:-//SwingAround//EN
BEGIN:VEVENT
DTSTART;VALUE=DATE:20261127
DTEND;VALUE=DATE:20261130
SUMMARY:Da Shag 2026
DESCRIPTION:A cozy workshop to dance and really connect with 2 parties, history &amp; cultural content, UNESCO heritage tour &amp; wellbeing corner. 4 hours of Collegiate Shag partnered intermediate &amp; up c...
LOCATION:Darmstadt, Germany
URL:https://swingaround.app/events/da-shag-2026
UID:event-261@swingaround.com
END:VEVENT
END:VCALENDAR
