BEGIN:VCALENDAR
VERSION:2.0
PRODID:-//SwingAround//EN
BEGIN:VEVENT
DTSTART;VALUE=DATE:20261009
DTEND;VALUE=DATE:20261012
SUMMARY:Da Solo Jazz 2026
DESCRIPTION:A cozy event to dance &amp; connect. Featuring two skill levels (beginner/intermediate and intermediate/advanced), DJ entertainment, a movie night, history and cultural programming, a UNESCO herita...
LOCATION:Darmstadt, Germany
URL:https://swingaround.app/events/da-solo-jazz-2026
UID:event-249@swingaround.com
END:VEVENT
END:VCALENDAR
