BEGIN:VCALENDAR
VERSION:2.0
PRODID:-//SwingAround//EN
BEGIN:VEVENT
DTSTART;VALUE=DATE:20260424
DTEND;VALUE=DATE:20260427
SUMMARY:DC Lindy Exchange 2026
DESCRIPTION:About DCLX DCLX is a non-profit group of swing dancers dedicated to promoting, fostering, and encouraging swing dance education for all ages and skill levels. We host a world-class festival every y...
LOCATION:Washington DC, United States
URL:https://swingaround.app/events/dc-lindy-exchange-2026
UID:event-158@swingaround.com
END:VEVENT
END:VCALENDAR
