BEGIN:VCALENDAR
VERSION:2.0
PRODID:-//SwingAround//EN
BEGIN:VEVENT
DTSTART;VALUE=DATE:20260828
DTEND;VALUE=DATE:20260831
SUMMARY:Dornbirn Summer Swivel
DESCRIPTION:Save the date for the 6th edition of the Dornbirn Summer Swivel-  a weekend of Lindy Hop, Balboa, and live bands. Updates to follow.
LOCATION:Dornbirn, Austria
URL:https://swingaround.app/events/dornbirn-summer-swivel-2026
UID:event-232@swingaround.com
END:VEVENT
END:VCALENDAR
