BEGIN:VCALENDAR
VERSION:2.0
PRODID:-//SwingAround//EN
BEGIN:VEVENT
DTSTART;VALUE=DATE:20260501
DTEND;VALUE=DATE:20260505
SUMMARY:Downtown Jazz Jam 2026
DESCRIPTION:A high-energy long weekend of top instructors, top classes and tippetty-top live bands in the heart of London.
LOCATION:London, United Kingdom
URL:https://swingaround.app/events/downtown-jazz-jam-2026
UID:event-163@swingaround.com
END:VEVENT
END:VCALENDAR
