BEGIN:VCALENDAR
VERSION:2.0
PRODID:-//SwingAround//EN
BEGIN:VEVENT
DTSTART;VALUE=DATE:20260320
DTEND;VALUE=DATE:20260323
SUMMARY:Duke’s Blues
DESCRIPTION:In a cosy and welcoming atmosphere, solo or couple dancer can dive into the Blues with full tracks or just picking special classes. Let yourself be surprised by the exclusive blues bands on Friday,...
LOCATION:Luxembourg, Luxembourg
URL:https://swingaround.app/events/duke-s-blues-2026
UID:event-116@swingaround.com
END:VEVENT
END:VCALENDAR
