BEGIN:VCALENDAR
VERSION:2.0
PRODID:-//SwingAround//EN
BEGIN:VEVENT
DTSTART;VALUE=DATE:20260410
DTEND;VALUE=DATE:20260413
SUMMARY:ESpanish Blues Festival Spring Edition 2026
DESCRIPTION:One of Europe's longest-running blues festivals, founded by four educators devoted to promoting blues music and honoring its cultural heritage. The festival emphasizes community engagement and cult...
LOCATION:Madrid, Spain
URL:https://swingaround.app/events/espanish-blues-festival-spring-edition-2026
UID:event-137@swingaround.com
END:VEVENT
END:VCALENDAR
