BEGIN:VCALENDAR
VERSION:2.0
PRODID:-//SwingAround//EN
BEGIN:VEVENT
DTSTART;VALUE=DATE:20260801
DTEND;VALUE=DATE:20260809
SUMMARY:Family Blues Camp 2026
DESCRIPTION:7-night blues dance vacation in beautiful Tuscany near Florence. 2-3 hours of Blues dance classes daily (all levels), skill shares, Blues parties with DJ music every evening, 1-2 parties with live ...
LOCATION:Tuscany, Italy
URL:https://swingaround.app/events/family-blues-camp-2026
UID:event-227@swingaround.com
END:VEVENT
END:VCALENDAR
