BEGIN:VCALENDAR
VERSION:2.0
PRODID:-//SwingAround//EN
BEGIN:VEVENT
DTSTART;VALUE=DATE:20260529
DTEND;VALUE=DATE:20260601
SUMMARY:Family Hop 2026
DESCRIPTION:The first truly family-friendly swing dance event, held at a German castle. It brings together multiple age groups for swing dancing instruction and creative activities including circus performance...
LOCATION:Burg Rothenfels, Rothenfels, Bavaria, Germany
URL:https://swingaround.app/events/family-hop-2026
UID:event-192@swingaround.com
END:VEVENT
END:VCALENDAR
