BEGIN:VCALENDAR
VERSION:2.0
PRODID:-//SwingAround//EN
BEGIN:VEVENT
DTSTART;VALUE=DATE:20260320
DTEND;VALUE=DATE:20260323
SUMMARY:Fast Feet Charlie
DESCRIPTION:Join us for Fast Feet Charlie in Karlsruhe, Germany: Collegiate Shag &amp; Balboa workshops, special classes and parties with live music.
LOCATION:Karlsruhe, Germany
URL:https://swingaround.app/events/fast-feet-charlie-2026
UID:event-105@swingaround.com
END:VEVENT
END:VCALENDAR
