BEGIN:VCALENDAR
VERSION:2.0
PRODID:-//SwingAround//EN
BEGIN:VEVENT
DTSTART;VALUE=DATE:20260327
DTEND;VALUE=DATE:20260330
SUMMARY:Fast Feet Fest
DESCRIPTION:Fast Feet Fest 2026 - Glasgow's Balboa and Collegiate Shag Festival! Presented by Glasgow Lindyhoppers &amp; Glasgow Balboa We're thrilled to announce the return of Fast Feet Fest, our high-energy ...
LOCATION:Glasgow, United Kingdom
URL:https://swingaround.app/events/fast-feet-fest-2026
UID:event-127@swingaround.com
END:VEVENT
END:VCALENDAR
