BEGIN:VCALENDAR
VERSION:2.0
PRODID:-//SwingAround//EN
BEGIN:VEVENT
DTSTART;VALUE=DATE:20260807
DTEND;VALUE=DATE:20260810
SUMMARY:Flower City Swing & Blues Exchange 2026
DESCRIPTION:A brand new exchange celebrating summertime in Rochester featuring lindy hop, blues, and balboa. The event includes catered meals, a board game lounge, and a party in the park.
LOCATION:Rochester, United States
URL:https://swingaround.app/events/flower-city-swing-blues-exchange-2026
UID:event-228@swingaround.com
END:VEVENT
END:VCALENDAR
