BEGIN:VCALENDAR
VERSION:2.0
PRODID:-//SwingAround//EN
BEGIN:VEVENT
DTSTART;VALUE=DATE:20260501
DTEND;VALUE=DATE:20260504
SUMMARY:Frankie 112 2026
DESCRIPTION:The event celebrates Frankie Manning's legacy as a pioneering Lindy Hop dancer and choreographer. It aims to unite swing dancers and share the joy and connection of Lindy Hop annually. The three-da...
LOCATION:Kuala Lumpur, Malaysia
URL:https://swingaround.app/events/frankie-112-2026
UID:event-165@swingaround.com
END:VEVENT
END:VCALENDAR
