BEGIN:VCALENDAR
VERSION:2.0
PRODID:-//SwingAround//EN
BEGIN:VEVENT
DTSTART;VALUE=DATE:20260521
DTEND;VALUE=DATE:20260526
SUMMARY:Frankie BA Festival 2026
DESCRIPTION:Five days of swing, dance, music and community. Features a pre-opening party, festival opening with live music and competitions, weekend classes and preliminaries, Big Apple Night and Savoy Party w...
LOCATION:Buenos Aires, Argentina
URL:https://swingaround.app/events/frankie-ba-festival-2026
UID:event-183@swingaround.com
END:VEVENT
END:VCALENDAR
